BEGIN:VCALENDAR
VERSION:2.0
PRODID:-//Mosaic Baptist Church - ECPv5.0.2//NONSGML v1.0//EN
CALSCALE:GREGORIAN
METHOD:PUBLISH
X-WR-CALNAME:Mosaic Baptist Church
X-ORIGINAL-URL:https://mosaicbaptist.org.au
X-WR-CALDESC:Events for Mosaic Baptist Church
BEGIN:VTIMEZONE
TZID:Australia/Sydney
BEGIN:STANDARD
TZOFFSETFROM:+1100
TZOFFSETTO:+1000
TZNAME:AEST
DTSTART:20200404T160000
END:STANDARD
BEGIN:DAYLIGHT
TZOFFSETFROM:+1000
TZOFFSETTO:+1100
TZNAME:AEDT
DTSTART:20201003T160000
END:DAYLIGHT
END:VTIMEZONE
BEGIN:VEVENT
DTSTART;TZID=Australia/Sydney:20200126T084500
DTEND;TZID=Australia/Sydney:20200126T110000
DTSTAMP:20200227T171610
CREATED:20181108T220652Z
LAST-MODIFIED:20181108T220652Z
UID:35934-1580028300-1580036400@mosaicbaptist.org.au
SUMMARY:Page 8:45am Church Service
DESCRIPTION:Our 8:45am service has a warm and friendly congregation made up of people across a wide age range – all with a heart to truly worship God.  While the two morning services are similar in content\, the 8:45am service is considered the quieter one. \nFor more information about our children’s activities go here. \n
URL:https://mosaicbaptist.org.au/event/belconnen-845am-church-service-2019-02-03/2020-01-26/
LOCATION:Page Campus Church Auditorium\, 18 Dallachy Street\, Page\, ACT\, 2614\, Australia
CATEGORIES:Church Service
ATTACH;FMTTYPE=image/png:https://mosaicbaptist.org.au/wp-content/uploads/2013/08/webphoto6_amcongregation.png
GEO:-35.238621;149.051266
X-APPLE-STRUCTURED-LOCATION;VALUE=URI;X-ADDRESS=Page Campus Church Auditorium 18 Dallachy Street Page ACT 2614 Australia;X-APPLE-RADIUS=500;X-TITLE=18 Dallachy Street:geo:149.051266,-35.238621
END:VEVENT
BEGIN:VEVENT
DTSTART;TZID=Australia/Sydney:20200126T093000
DTEND;TZID=Australia/Sydney:20200126T110000
DTSTAMP:20200227T171610
CREATED:20181123T012119Z
LAST-MODIFIED:20200110T025849Z
UID:36125-1580031000-1580036400@mosaicbaptist.org.au
SUMMARY:Gungahlin 9:30am Church Service
DESCRIPTION:Mosaic’s Gungahlin Congregation attracts people of all ages\, particularly young families and adults who enjoy a casual\, contemporary service. \nThe Congregation is forming a culture driven by four aspirational values­­—grace\, transformation\, community and compassion. \nFor information on our children’s activities\, go here. \n
URL:https://mosaicbaptist.org.au/event/gungahlin-930am-church-service-2020-01-05/2020-01-26/
LOCATION:Gungahlin Campus Church Auditorium\, Unit 7/160 Lysaght St\, Mitchell\, ACT\, 2912\, Australia
CATEGORIES:Church Service
ATTACH;FMTTYPE=image/png:https://mosaicbaptist.org.au/wp-content/uploads/2013/08/slider-gungahlin.png
GEO:-35.2144086;149.1381657
X-APPLE-STRUCTURED-LOCATION;VALUE=URI;X-ADDRESS=Gungahlin Campus Church Auditorium Unit 7/160 Lysaght St Mitchell ACT 2912 Australia;X-APPLE-RADIUS=500;X-TITLE=Unit 7/160 Lysaght St:geo:149.1381657,-35.2144086
END:VEVENT
BEGIN:VEVENT
DTSTART;TZID=Australia/Sydney:20200126T100000
DTEND;TZID=Australia/Sydney:20200126T113000
DTSTAMP:20200227T171610
CREATED:20190219T002121Z
LAST-MODIFIED:20190219T002121Z
UID:34326-1580032800-1580038200@mosaicbaptist.org.au
SUMMARY:Evatt 10am Church Service
DESCRIPTION:Evatt is our brand new congregation. It is a place of new beginnings and a fresh start. \n
URL:https://mosaicbaptist.org.au/event/evatt-10am-church-service/2020-01-26/
LOCATION:Dallachy Street\, Page\, ACT\, 2614\, Australia
CATEGORIES:Church Service
ATTACH;FMTTYPE=image/jpeg:https://mosaicbaptist.org.au/wp-content/uploads/2019/02/evatt-20.jpg
END:VEVENT
BEGIN:VEVENT
DTSTART;TZID=Australia/Sydney:20200126T103000
DTEND;TZID=Australia/Sydney:20200126T120000
DTSTAMP:20200227T171610
CREATED:20181108T221424Z
LAST-MODIFIED:20181108T221424Z
UID:36030-1580034600-1580040000@mosaicbaptist.org.au
SUMMARY:Page 10:30am Church Service
DESCRIPTION:Our 10:30am service attracts people of all ages\, with a diverse cultural representation.  It features a contemporary and celebrational service style\, helping participants to experience and respond to the presence of God.  The service has plenty of great and upbeat worship and prayer. \nFor more information about our children’s activities go here. \n
URL:https://mosaicbaptist.org.au/event/belconnen-1030am-church-service-2019-02-03/2020-01-26/
LOCATION:Page Campus Church Auditorium\, 18 Dallachy Street\, Page\, ACT\, 2614\, Australia
CATEGORIES:Church Service
ATTACH;FMTTYPE=image/png:https://mosaicbaptist.org.au/wp-content/uploads/2013/08/webphoto6_amcongregation.png
GEO:-35.238621;149.051266
X-APPLE-STRUCTURED-LOCATION;VALUE=URI;X-ADDRESS=Page Campus Church Auditorium 18 Dallachy Street Page ACT 2614 Australia;X-APPLE-RADIUS=500;X-TITLE=18 Dallachy Street:geo:149.051266,-35.238621
END:VEVENT
BEGIN:VEVENT
DTSTART;TZID=Australia/Sydney:20200126T180000
DTEND;TZID=Australia/Sydney:20200126T193000
DTSTAMP:20200227T171610
CREATED:20181108T223657Z
LAST-MODIFIED:20181108T223657Z
UID:36212-1580061600-1580067000@mosaicbaptist.org.au
SUMMARY:Page 6pm Church Service
DESCRIPTION:Our Sunday evening service is great for youth and young adults. People of all ages love its energy and diversity. \nThe music is upbeat\, the dress is casual and all are welcome.  It is filled with worship\, prayer\, great teaching and heaps of fellowship opportunities.\n
URL:https://mosaicbaptist.org.au/event/page-6pm-church-service/2020-01-26/
LOCATION:Page Campus Church Auditorium\, 18 Dallachy Street\, Page\, ACT\, 2614\, Australia
CATEGORIES:Church Service
ATTACH;FMTTYPE=image/jpeg:https://mosaicbaptist.org.au/wp-content/uploads/2013/08/PM-service-2017-cropped-blurred.jpg
GEO:-35.238621;149.051266
X-APPLE-STRUCTURED-LOCATION;VALUE=URI;X-ADDRESS=Page Campus Church Auditorium 18 Dallachy Street Page ACT 2614 Australia;X-APPLE-RADIUS=500;X-TITLE=18 Dallachy Street:geo:149.051266,-35.238621
END:VEVENT
END:VCALENDAR