BEGIN:VCALENDAR
VERSION:2.0
PRODID:-//Mosaic Baptist Church - ECPv5.0.2//NONSGML v1.0//EN
CALSCALE:GREGORIAN
METHOD:PUBLISH
X-WR-CALNAME:Mosaic Baptist Church
X-ORIGINAL-URL:https://mosaicbaptist.org.au
X-WR-CALDESC:Events for Mosaic Baptist Church
BEGIN:VTIMEZONE
TZID:Australia/Sydney
BEGIN:STANDARD
TZOFFSETFROM:+1100
TZOFFSETTO:+1000
TZNAME:AEST
DTSTART:20200404T160000
END:STANDARD
BEGIN:DAYLIGHT
TZOFFSETFROM:+1000
TZOFFSETTO:+1100
TZNAME:AEDT
DTSTART:20201003T160000
END:DAYLIGHT
END:VTIMEZONE
BEGIN:VEVENT
DTSTART;TZID=Australia/Sydney:20200130T090000
DTEND;TZID=Australia/Sydney:20200130T120000
DTSTAMP:20200227T171855
CREATED:20190319T013349Z
LAST-MODIFIED:20190319T013349Z
UID:34625-1580374800-1580385600@mosaicbaptist.org.au
SUMMARY:Belconnen Community Men's Shed
DESCRIPTION:Men helping men build a better community. Our mission is to enjoy each others company and wisdom and promote positive lifestyles\, while sharing our skills for the benefit of individuals and the community. \nOur Shed opened in March 2014\, new members and visitors are always welcome. The Shed is 15 by 9 meters\, and has been purposely designed and built as a Men’s Shed. It is fully insulated\, with a kitchen\, air-conditioning\, disabled access and is equipped with woodworking and metalworking tools. It’s not just about the tools so for those that just want to come for a chat or coffee we have the kitchen and a great meeting table. Its a MEN’S SHED not a work house\, so come and enjoy yourself. \nTuesday – Thursday & Saturday 9am – 12pm & Thursday 1pm – 3pm (electronics group) \nCLICK HERE for information. \n
URL:https://mosaicbaptist.org.au/event/belconnen-community-mens-shed-3/2020-01-30/
LOCATION:Page Men’s Shed\, Dallachy Street\, Page\, ACT\, 2614\, Australia
CATEGORIES:Men's Shed
ATTACH;FMTTYPE=image/jpeg:https://mosaicbaptist.org.au/wp-content/uploads/2014/03/Mens-Shed.jpg
GEO:-35.2382602;149.0518582
X-APPLE-STRUCTURED-LOCATION;VALUE=URI;X-ADDRESS=Page Men’s Shed Dallachy Street Page ACT 2614 Australia;X-APPLE-RADIUS=500;X-TITLE=Dallachy Street:geo:149.0518582,-35.2382602
END:VEVENT
BEGIN:VEVENT
DTSTART;TZID=Australia/Sydney:20200130T130000
DTEND;TZID=Australia/Sydney:20200130T150000
DTSTAMP:20200227T171855
CREATED:20190319T013651Z
LAST-MODIFIED:20190319T013651Z
UID:34701-1580389200-1580396400@mosaicbaptist.org.au
SUMMARY:Belconnen Community Men's Shed
DESCRIPTION:Men helping men build a better community. Our mission is to enjoy each others company and wisdom and promote positive lifestyles\, while sharing our skills for the benefit of individuals and the community. \nOur Shed opened in March 2014\, new members and visitors are always welcome. The Shed is 15 by 9 meters\, and has been purposely designed and built as a Men’s Shed. It is fully insulated\, with a kitchen\, air-conditioning\, disabled access and is equipped with woodworking and metalworking tools. It’s not just about the tools so for those that just want to come for a chat or coffee we have the kitchen and a great meeting table. Its a MEN’S SHED not a work house\, so come and enjoy yourself. \nTuesday – Thursday & Saturday 9am – 12pm & Thursday 1pm – 3pm \nCLICK HERE for information. \n
URL:https://mosaicbaptist.org.au/event/belconnen-community-mens-shed-4/2020-01-30/
LOCATION:Page Men’s Shed\, Dallachy Street\, Page\, ACT\, 2614\, Australia
CATEGORIES:Men's Shed
ATTACH;FMTTYPE=image/jpeg:https://mosaicbaptist.org.au/wp-content/uploads/2014/03/Mens-Shed.jpg
GEO:-35.2382602;149.0518582
X-APPLE-STRUCTURED-LOCATION;VALUE=URI;X-ADDRESS=Page Men’s Shed Dallachy Street Page ACT 2614 Australia;X-APPLE-RADIUS=500;X-TITLE=Dallachy Street:geo:149.0518582,-35.2382602
END:VEVENT
END:VCALENDAR