BEGIN:VCALENDAR
VERSION:2.0
PRODID:-//Mosaic Baptist Church - ECPv5.0.2//NONSGML v1.0//EN
CALSCALE:GREGORIAN
METHOD:PUBLISH
X-WR-CALNAME:Mosaic Baptist Church
X-ORIGINAL-URL:https://mosaicbaptist.org.au
X-WR-CALDESC:Events for Mosaic Baptist Church
BEGIN:VTIMEZONE
TZID:Australia/Sydney
BEGIN:STANDARD
TZOFFSETFROM:+1100
TZOFFSETTO:+1000
TZNAME:AEST
DTSTART:20200404T160000
END:STANDARD
BEGIN:DAYLIGHT
TZOFFSETFROM:+1000
TZOFFSETTO:+1100
TZNAME:AEDT
DTSTART:20201003T160000
END:DAYLIGHT
END:VTIMEZONE
BEGIN:VEVENT
DTSTART;TZID=Australia/Sydney:20200203T093000
DTEND;TZID=Australia/Sydney:20200203T113000
DTSTAMP:20200227T172247
CREATED:20200130T225332Z
LAST-MODIFIED:20200130T232043Z
UID:36590-1580722200-1580729400@mosaicbaptist.org.au
SUMMARY:Busy Bees Playgroup Page
DESCRIPTION:Busy Bees Playgroups are for children aged 0-5 years and their parents/carers. We provide an environment for families from the community to come and connect with each other\, while spending quality time with their children. \nCost is $20 per term. Includes morning tea for children and craft materials. \n
URL:https://mosaicbaptist.org.au/event/busy-bees-playgroup-page-3/2020-02-03/
LOCATION:Page Campus Church Hall\, 18 Dallachy Street\, Page\, ACT\, 2614\, Australia
CATEGORIES:Busy Bees
ATTACH;FMTTYPE=image/png:https://mosaicbaptist.org.au/wp-content/uploads/2009/08/busybees.png
GEO:-35.238621;149.051266
X-APPLE-STRUCTURED-LOCATION;VALUE=URI;X-ADDRESS=Page Campus Church Hall 18 Dallachy Street Page ACT 2614 Australia;X-APPLE-RADIUS=500;X-TITLE=18 Dallachy Street:geo:149.051266,-35.238621
END:VEVENT
END:VCALENDAR